BEGIN:VCALENDAR
VERSION:2.0
PRODID:-//Scouting Regio Zeeland - ECPv6.15.20//NONSGML v1.0//EN
CALSCALE:GREGORIAN
METHOD:PUBLISH
X-WR-CALNAME:Scouting Regio Zeeland
X-ORIGINAL-URL:https://scoutingzeeland.nl
X-WR-CALDESC:Evenementen voor Scouting Regio Zeeland
REFRESH-INTERVAL;VALUE=DURATION:PT1H
X-Robots-Tag:noindex
X-PUBLISHED-TTL:PT1H
BEGIN:VTIMEZONE
TZID:Europe/Amsterdam
BEGIN:DAYLIGHT
TZOFFSETFROM:+0100
TZOFFSETTO:+0200
TZNAME:CEST
DTSTART:20250330T010000
END:DAYLIGHT
BEGIN:STANDARD
TZOFFSETFROM:+0200
TZOFFSETTO:+0100
TZNAME:CET
DTSTART:20251026T010000
END:STANDARD
BEGIN:DAYLIGHT
TZOFFSETFROM:+0100
TZOFFSETTO:+0200
TZNAME:CEST
DTSTART:20260329T010000
END:DAYLIGHT
BEGIN:STANDARD
TZOFFSETFROM:+0200
TZOFFSETTO:+0100
TZNAME:CET
DTSTART:20261025T010000
END:STANDARD
BEGIN:DAYLIGHT
TZOFFSETFROM:+0100
TZOFFSETTO:+0200
TZNAME:CEST
DTSTART:20270328T010000
END:DAYLIGHT
BEGIN:STANDARD
TZOFFSETFROM:+0200
TZOFFSETTO:+0100
TZNAME:CET
DTSTART:20271031T010000
END:STANDARD
END:VTIMEZONE
BEGIN:VEVENT
DTSTART;VALUE=DATE:20260523
DTEND;VALUE=DATE:20260526
DTSTAMP:20260421T131202
CREATED:20260207T145200Z
LAST-MODIFIED:20260207T145200Z
UID:2424-1779494400-1779753599@scoutingzeeland.nl
SUMMARY:ZeWaKa
DESCRIPTION:(Zeeverkenners en Wiva) HET kamp voor Zeeuwse waterscouts.
URL:https://scoutingzeeland.nl/evenement/zewaka-3/
LOCATION:Scoutcentrum Zeeland\, Wulpenburgseweg 6\, Veere\, 4351PB\, Nederland
CATEGORIES:Activiteiten,Admiraliteit,Explorers,Scouts
ATTACH;FMTTYPE=image/jpeg:https://scoutingzeeland.nl/wp-content/uploads/2022/01/Scouts-bos-scaled-1.jpg
ORGANIZER;CN="Admiraliteit":MAILTO:secretariaat@ra7.scouting.nl
END:VEVENT
BEGIN:VEVENT
DTSTART;VALUE=DATE:20260529
DTEND;VALUE=DATE:20260601
DTSTAMP:20260421T131202
CREATED:20260207T145514Z
LAST-MODIFIED:20260207T145514Z
UID:2428-1780012800-1780271999@scoutingzeeland.nl
SUMMARY:Regioweekend Explorers Noord
DESCRIPTION:Regioweekend Explorers Noord
URL:https://scoutingzeeland.nl/evenement/regioweekend-explorers-noord-3/
CATEGORIES:Explorers
ATTACH;FMTTYPE=image/jpeg:https://scoutingzeeland.nl/wp-content/uploads/2022/01/Scouts-bos-scaled-1.jpg
ORGANIZER;CN="TSP Explorers Noord":MAILTO:tspexplorersnoord@scoutingzeeland.nl
END:VEVENT
BEGIN:VEVENT
DTSTART;VALUE=DATE:20261010
DTEND;VALUE=DATE:20261011
DTSTAMP:20260421T131202
CREATED:20260207T150847Z
LAST-MODIFIED:20260207T150847Z
UID:2446-1791590400-1791676799@scoutingzeeland.nl
SUMMARY:Najaarsactiviteit Explorers Noord
DESCRIPTION:Najaarsactiviteit Explorers Noord
URL:https://scoutingzeeland.nl/evenement/najaarsactiviteit-explorers-noord/
CATEGORIES:Activiteiten,Explorers,Rovers
ATTACH;FMTTYPE=image/jpeg:https://scoutingzeeland.nl/wp-content/uploads/2022/01/Scouts-bos-scaled-1.jpg
ORGANIZER;CN="TSP Explorers Noord":MAILTO:tspexplorersnoord@scoutingzeeland.nl
END:VEVENT
BEGIN:VEVENT
DTSTART;VALUE=DATE:20261017
DTEND;VALUE=DATE:20261018
DTSTAMP:20260421T131202
CREATED:20260207T151254Z
LAST-MODIFIED:20260207T152359Z
UID:2452-1792195200-1792281599@scoutingzeeland.nl
SUMMARY:JOTA/JOTI
DESCRIPTION:JOTA/JOTI
URL:https://scoutingzeeland.nl/evenement/jota-joti-3/
CATEGORIES:Activiteiten,Admiraliteit,Bevers,Explorers,Rovers,Scouts,Welpen
ATTACH;FMTTYPE=image/jpeg:https://scoutingzeeland.nl/wp-content/uploads/2022/01/Scouts-bos-scaled-1.jpg
END:VEVENT
BEGIN:VEVENT
DTSTART;VALUE=DATE:20261227
DTEND;VALUE=DATE:20261231
DTSTAMP:20260421T131202
CREATED:20260207T152128Z
LAST-MODIFIED:20260207T152128Z
UID:2464-1798329600-1798675199@scoutingzeeland.nl
SUMMARY:Houthakkerskamp
DESCRIPTION:Houthakkerskamp: Het jaarlijkse houthakkerskamp voor het omgaan met bijl\, mes en zaag.
URL:https://scoutingzeeland.nl/evenement/houthakkerskamp-3/
LOCATION:Scoutcentrum Zeeland\, Wulpenburgseweg 6\, Veere\, 4351PB\, Nederland
CATEGORIES:Activiteiten,Explorers,Scouts,Trainingen
ATTACH;FMTTYPE=image/jpeg:https://scoutingzeeland.nl/wp-content/uploads/2022/01/Scouts-bos-scaled-1.jpg
END:VEVENT
END:VCALENDAR